BEGIN:VCALENDAR
VERSION:2.0
PRODID:-//Tukios.com/
BEGIN:VEVENT
UID:a12d1332-ceed-4625-867e-138a4fc48cf7@www.mooneyfuneralhome.com
DTSTAMP:20260424T231628Z
DTSTART:20260429T164500Z
DTEND:20260429T170000Z
SUMMARY:Interment
DESCRIPTION:
URL:https://www.mooneyfuneralhome.com/obituaries/claude-coonradt
LOCATION:Nassau & Schodack Cemetery Route 203  Nassau NY 12123
GEO:42.5092883;-73.6128259
END:VEVENT
END:VCALENDAR