BEGIN:VCALENDAR
VERSION:2.0
PRODID:-//Tukios.com/
BEGIN:VEVENT
UID:bd29943f-8c47-4dbf-ba11-e227bad0148e@www.mooneyfuneralhome.com
DTSTAMP:20260424T231500Z
DTSTART:20260429T160000Z
DTEND:20260429T163000Z
SUMMARY:Funeral Service
DESCRIPTION:
URL:https://www.mooneyfuneralhome.com/obituaries/claude-coonradt
LOCATION:Thomas P. Mooney Funeral Home, LLC 11 Elm Street  Nassau NY 
	12123
GEO:42.5173109;-73.6098187
END:VEVENT
END:VCALENDAR