BEGIN:VCALENDAR
VERSION:2.0
PRODID:-//Tukios.com/
BEGIN:VEVENT
UID:33a67d98-67c7-4875-a5d4-aa911b713f6d@www.mooneyfuneralhome.com
DTSTAMP:20260424T231459Z
DTSTART:20260429T140000Z
DTEND:20260429T160000Z
SUMMARY:Calling Hours
DESCRIPTION:
URL:https://www.mooneyfuneralhome.com/obituaries/claude-coonradt
LOCATION:Thomas P. Mooney Funeral Home, LLC 11 Elm Street  Nassau NY 
	12123
GEO:42.5173109;-73.6098187
END:VEVENT
END:VCALENDAR