BEGIN:VCALENDAR
VERSION:2.0
PRODID:-//Tukios.com/
BEGIN:VEVENT
UID:dfd6a926-5387-4605-992a-1bdd8bce3048@www.mooneyfuneralhome.com
DTSTAMP:20260421T181748Z
DTSTART:20260424T143000Z
DTEND:20260424T150000Z
SUMMARY:Inurnment
DESCRIPTION:
URL:https://www.mooneyfuneralhome.com/obituaries/kenneth-nurnberg
LOCATION:Gerald BH Solomon Saratoga National Cemetery 200 Duell Road  
	Schuylerville NY 12871
GEO:43.0261341;-73.6151224
END:VEVENT
END:VCALENDAR