BEGIN:VCALENDAR
VERSION:2.0
PRODID:-//Tukios.com/
BEGIN:VEVENT
UID:84dbc3ad-9c58-4234-a2c4-8e3684159925@www.mooneyfuneralhome.com
DTSTAMP:20260421T182050Z
DTSTART:20260424T130000Z
DTEND:20260424T140000Z
SUMMARY:Memorial Service
DESCRIPTION:
URL:https://www.mooneyfuneralhome.com/obituaries/kenneth-nurnberg
LOCATION:The Church of Jesus Christ of Latter-day Saints 111 Academy St.  
	Greenwich NY 12834
GEO:43.0931065;-73.5153653
END:VEVENT
END:VCALENDAR